BEGIN:VCALENDAR
VERSION:2.0
PRODID:-//Paroisses de Mirambeau et Saint-Genis-de-Saintonge - ECPv6.15.14//NONSGML v1.0//EN
CALSCALE:GREGORIAN
METHOD:PUBLISH
X-WR-CALNAME:Paroisses de Mirambeau et Saint-Genis-de-Saintonge
X-ORIGINAL-URL:https://catholiques17.fr/mir-sg
X-WR-CALDESC:Évènements pour Paroisses de Mirambeau et Saint-Genis-de-Saintonge
REFRESH-INTERVAL;VALUE=DURATION:PT1H
X-Robots-Tag:noindex
X-PUBLISHED-TTL:PT1H
BEGIN:VTIMEZONE
TZID:Europe/Paris
BEGIN:DAYLIGHT
TZOFFSETFROM:+0100
TZOFFSETTO:+0200
TZNAME:CEST
DTSTART:20240331T010000
END:DAYLIGHT
BEGIN:STANDARD
TZOFFSETFROM:+0200
TZOFFSETTO:+0100
TZNAME:CET
DTSTART:20241027T010000
END:STANDARD
BEGIN:DAYLIGHT
TZOFFSETFROM:+0100
TZOFFSETTO:+0200
TZNAME:CEST
DTSTART:20250330T010000
END:DAYLIGHT
BEGIN:STANDARD
TZOFFSETFROM:+0200
TZOFFSETTO:+0100
TZNAME:CET
DTSTART:20251026T010000
END:STANDARD
BEGIN:DAYLIGHT
TZOFFSETFROM:+0100
TZOFFSETTO:+0200
TZNAME:CEST
DTSTART:20260329T010000
END:DAYLIGHT
BEGIN:STANDARD
TZOFFSETFROM:+0200
TZOFFSETTO:+0100
TZNAME:CET
DTSTART:20261025T010000
END:STANDARD
END:VTIMEZONE
BEGIN:VEVENT
DTSTART;TZID=Europe/Paris:20250414T080000
DTEND;TZID=Europe/Paris:20250414T170000
DTSTAMP:20260419T204534
CREATED:20250325T081542Z
LAST-MODIFIED:20250325T081542Z
UID:8113-1744617600-1744650000@catholiques17.fr
SUMMARY:Messe Chrismale
DESCRIPTION:
URL:https://catholiques17.fr/mir-sg/event/messe-chrismale/
ATTACH;FMTTYPE=image/jpeg:https://catholiques17.fr/mir-sg/wp-content/uploads/sites/27/2025/03/Messe-chrismale-2025-1_page-0001.jpg
END:VEVENT
BEGIN:VEVENT
DTSTART;TZID=Europe/Paris:20250415T180000
DTEND;TZID=Europe/Paris:20250415T190000
DTSTAMP:20260419T204534
CREATED:20250405T141329Z
LAST-MODIFIED:20250405T142915Z
UID:8131-1744740000-1744743600@catholiques17.fr
SUMMARY:Célébration pénitentielle à Saint Fort sur Gironde
DESCRIPTION:La célébration pénitentielle aura lieu en l’église de Saint Ciers du Taillon\, avec adoration\, méditation et confession individuelle pour ceux et celles qui le désire.
URL:https://catholiques17.fr/mir-sg/event/celebration-penitentielle/
END:VEVENT
BEGIN:VEVENT
DTSTART;TZID=Europe/Paris:20250417T180000
DTEND;TZID=Europe/Paris:20250417T190000
DTSTAMP:20260419T204534
CREATED:20250405T141736Z
LAST-MODIFIED:20250405T141736Z
UID:8133-1744912800-1744916400@catholiques17.fr
SUMMARY:Célébration de la Cène à l'église de Mirambeau
DESCRIPTION:
URL:https://catholiques17.fr/mir-sg/event/celebration-de-la-cene-a-leglise-de-mirambeau/
LOCATION:Eglise de Mirambeau\, Mirambeau\, 17150\, France
END:VEVENT
BEGIN:VEVENT
DTSTART;TZID=Europe/Paris:20250418T150000
DTEND;TZID=Europe/Paris:20250418T160000
DTSTAMP:20260419T204534
CREATED:20250405T142107Z
LAST-MODIFIED:20250405T142107Z
UID:8137-1744988400-1744992000@catholiques17.fr
SUMMARY:Chemin de croix à Saint Dizant du Gua
DESCRIPTION:
URL:https://catholiques17.fr/mir-sg/event/chemin-de-croix-a-saint-dizant-du-gua/
END:VEVENT
BEGIN:VEVENT
DTSTART;TZID=Europe/Paris:20250418T160000
DTEND;TZID=Europe/Paris:20250418T170000
DTSTAMP:20260419T204534
CREATED:20250405T141944Z
LAST-MODIFIED:20250405T141944Z
UID:8135-1744992000-1744995600@catholiques17.fr
SUMMARY:Célébration de la passion à Saint Dizant du Gua
DESCRIPTION:
URL:https://catholiques17.fr/mir-sg/event/celebration-de-la-passion-a-saint-dizant-du-gua/
END:VEVENT
BEGIN:VEVENT
DTSTART;TZID=Europe/Paris:20250419T213000
DTEND;TZID=Europe/Paris:20250419T223000
DTSTAMP:20260419T204534
CREATED:20250405T142259Z
LAST-MODIFIED:20250405T142259Z
UID:8139-1745098200-1745101800@catholiques17.fr
SUMMARY:Célébration de la veillée Pascale à Saint Génis de Saintonge
DESCRIPTION:
URL:https://catholiques17.fr/mir-sg/event/celebration-de-la-veillee-pascale-a-saint-genis-de-saintonge/
LOCATION:Eglise St Genis de Saintonge\, Saint Genis de Saintonge\, 1720\, France
END:VEVENT
BEGIN:VEVENT
DTSTART;TZID=Europe/Paris:20250420T103000
DTEND;TZID=Europe/Paris:20250420T113000
DTSTAMP:20260419T204534
CREATED:20250405T142534Z
LAST-MODIFIED:20250405T142534Z
UID:8141-1745145000-1745148600@catholiques17.fr
SUMMARY:Résurrection du Seigneur à Mirambeau
DESCRIPTION:
URL:https://catholiques17.fr/mir-sg/event/resurrection-du-seigneur-a-mirambeau/
LOCATION:Eglise de Mirambeau\, Mirambeau\, 17150\, France
END:VEVENT
BEGIN:VEVENT
DTSTART;TZID=Europe/Paris:20250421T103000
DTEND;TZID=Europe/Paris:20250421T113000
DTSTAMP:20260419T204534
CREATED:20250405T142812Z
LAST-MODIFIED:20250405T142812Z
UID:8143-1745231400-1745235000@catholiques17.fr
SUMMARY:Lundi de Pâque à Saint Ciers du Taillon
DESCRIPTION:La messe sera suivi d’un pique-nique chez Bernadette VIAS.
URL:https://catholiques17.fr/mir-sg/event/lundi-de-paque-a-saint-ciers-du-taillon/
END:VEVENT
END:VCALENDAR