BEGIN:VCALENDAR
VERSION:2.0
PRODID:-//Paroisse Notre-Dame des Marais - ECPv6.15.14//NONSGML v1.0//EN
CALSCALE:GREGORIAN
METHOD:PUBLISH
X-ORIGINAL-URL:https://catholiques17.fr/marans
X-WR-CALDESC:Évènements pour Paroisse Notre-Dame des Marais
REFRESH-INTERVAL;VALUE=DURATION:PT1H
X-Robots-Tag:noindex
X-PUBLISHED-TTL:PT1H
BEGIN:VTIMEZONE
TZID:Europe/Paris
BEGIN:DAYLIGHT
TZOFFSETFROM:+0100
TZOFFSETTO:+0200
TZNAME:CEST
DTSTART:20240331T010000
END:DAYLIGHT
BEGIN:STANDARD
TZOFFSETFROM:+0200
TZOFFSETTO:+0100
TZNAME:CET
DTSTART:20241027T010000
END:STANDARD
BEGIN:DAYLIGHT
TZOFFSETFROM:+0100
TZOFFSETTO:+0200
TZNAME:CEST
DTSTART:20250330T010000
END:DAYLIGHT
BEGIN:STANDARD
TZOFFSETFROM:+0200
TZOFFSETTO:+0100
TZNAME:CET
DTSTART:20251026T010000
END:STANDARD
BEGIN:DAYLIGHT
TZOFFSETFROM:+0100
TZOFFSETTO:+0200
TZNAME:CEST
DTSTART:20260329T010000
END:DAYLIGHT
BEGIN:STANDARD
TZOFFSETFROM:+0200
TZOFFSETTO:+0100
TZNAME:CET
DTSTART:20261025T010000
END:STANDARD
END:VTIMEZONE
BEGIN:VEVENT
DTSTART;TZID=Europe/Paris:20251214T143000
DTEND;TZID=Europe/Paris:20251214T163000
DTSTAMP:20260419T155735
CREATED:20251130T060608Z
LAST-MODIFIED:20251130T061014Z
UID:10510-1765722600-1765729800@catholiques17.fr
SUMMARY:Concert au Langon
DESCRIPTION:Christine Helia Chante Noël à l’église du Langon \nLe 14 décembre à 14h30
URL:https://catholiques17.fr/marans/event/concert-au-langon/
CATEGORIES:concert
END:VEVENT
END:VCALENDAR