BEGIN:VCALENDAR
VERSION:2.0
PRODID:-//Dioc&egrave;se la Rochelle - ECPv6.15.14//NONSGML v1.0//EN
CALSCALE:GREGORIAN
METHOD:PUBLISH
X-ORIGINAL-URL:https://catholiques17.fr
X-WR-CALDESC:Évènements pour Dioc&egrave;se la Rochelle
REFRESH-INTERVAL;VALUE=DURATION:PT1H
X-Robots-Tag:noindex
X-PUBLISHED-TTL:PT1H
BEGIN:VTIMEZONE
TZID:Europe/Paris
BEGIN:DAYLIGHT
TZOFFSETFROM:+0100
TZOFFSETTO:+0200
TZNAME:CEST
DTSTART:20250330T010000
END:DAYLIGHT
BEGIN:STANDARD
TZOFFSETFROM:+0200
TZOFFSETTO:+0100
TZNAME:CET
DTSTART:20251026T010000
END:STANDARD
BEGIN:DAYLIGHT
TZOFFSETFROM:+0100
TZOFFSETTO:+0200
TZNAME:CEST
DTSTART:20260329T010000
END:DAYLIGHT
BEGIN:STANDARD
TZOFFSETFROM:+0200
TZOFFSETTO:+0100
TZNAME:CET
DTSTART:20261025T010000
END:STANDARD
BEGIN:DAYLIGHT
TZOFFSETFROM:+0100
TZOFFSETTO:+0200
TZNAME:CEST
DTSTART:20270328T010000
END:DAYLIGHT
BEGIN:STANDARD
TZOFFSETFROM:+0200
TZOFFSETTO:+0100
TZNAME:CET
DTSTART:20271031T010000
END:STANDARD
END:VTIMEZONE
BEGIN:VEVENT
DTSTART;VALUE=DATE:20260530
DTEND;VALUE=DATE:20260607
DTSTAMP:20260424T212807
CREATED:20251030T151610Z
LAST-MODIFIED:20251030T151652Z
UID:41606-1780099200-1780790399@catholiques17.fr
SUMMARY:Exercices Spirituels sur 7 jours
DESCRIPTION:UNE RETRAITE POUR REVENIR A L’ESSENTIEL \n\nSe mettre à l’écart du monde pour chercher Dieu\nSe situer sous son regard\nEntrer dans une connaissance intérieure du Christ pour mieux l’aimer et le servir\nReconnaitre l’appel de Dieu pour eux et choisir d’y répondreUNE RETRAITE EN SILENCE\nL’ensemble de la retraite est en silence pour permettre à chaque retraitant d’entrer dans davantage d’intimité et d’écoute du Christ \nUNE RETRAITE ACCOMPAGNÉE\nUn accompagnement spirituel quotidien est proposé à chaque retraitant pour l’aider à reconnaitre les motions de l’Esprit et la manière dont Dieu lui parle et agit avec lui \n\n\n  \n\n\n\nA l’Abbaye de Sablonceaux\n17600 SABLONCEAUX\n\n\ndu 30 Mai 2026 à 18:00\nau 6 Juin 2026 à 10:00\n\nInscription et renseignements : www.chemin-neuf.fr
URL:https://catholiques17.fr/event/exercices-spirituels-sur-7-jours/
LOCATION:Abbaye de Sablonceaux\, Route de l'Abbaye\, Sablonceaux\, France
ATTACH;FMTTYPE=image/jpeg:https://catholiques17.fr/wp-content/uploads/2025/10/Bible.jpg
END:VEVENT
BEGIN:VEVENT
DTSTART;VALUE=DATE:20260601
DTEND;VALUE=DATE:20260602
DTSTAMP:20260424T212807
CREATED:20260109T162244Z
LAST-MODIFIED:20260109T162244Z
UID:42453-1780272000-1780358399@catholiques17.fr
SUMMARY:Journée ISAP : Relire et recueillir les fruits
DESCRIPTION:L’Itinéraire Spirituel des Acteurs Pastoraux vous propose un parcours de formation pensé sur 3 ans autour de la mission. Chaque journée comporte des temps d’enseignement\, de partage de la Parole\, de relecture de la mission\, d’échanges avec d’autres… \nRépondre à l’appel\nLundi 1er juin 2026\nà la Maison diocésaine à Saintes\n  \nInfos et inscriptions : c.leguilloux@diocese17.fr – 06 21 47 78 10
URL:https://catholiques17.fr/event/journee-isap-relire-et-recueillir-les-fruits/
LOCATION:Maison diocésaine de Saintes\, 6 allée du Séminaire\, Saintes\, 17100\, France
ATTACH;FMTTYPE=image/jpeg:https://catholiques17.fr/wp-content/uploads/2026/01/isap.jpg
END:VEVENT
BEGIN:VEVENT
DTSTART;TZID=Europe/Paris:20260601T120000
DTEND;TZID=Europe/Paris:20260601T140000
DTSTAMP:20260424T212807
CREATED:20260126T140356Z
LAST-MODIFIED:20260126T140356Z
UID:42603-1780315200-1780322400@catholiques17.fr
SUMMARY:Papotes mamans organisé par les AFC Rochefort
DESCRIPTION:Papotes Mamans : \nPour les futures mamans\,  pour les mamans et leurs bébés\, pour les mamans plus grandes\, pour les grands-mères \nUne rencontre par mois\, pour papoter\, pour partager\, pour échanger\, pour rire\, pour ouvrir les yeux\, pour s’accueillir\, pour s’écouter\, pour changer d’air\, pour se poser entre mamans\, pour sourire\, pour mettre du beau dans la journée\, pour confier ses fatigues\, pour se changer les idées\, pour aller marcher\, pour déjeuner ensemble\, … \nProchaine rencontre : \nLundi 1er juin Déjeuner de Papotes Mamans chez les sœurs avec les enfants et les bébés. \nContact : afc17rochefort@afc-france.org  06 95 77 20 41
URL:https://catholiques17.fr/event/papotes-mamans-organise-par-les-afc-rochefort-4/
LOCATION:Soeurs Ursulines\, 65 bis rue Voltaire\, Rochefort\, 17300\, France
ATTACH;FMTTYPE=image/jpeg:https://catholiques17.fr/wp-content/uploads/2021/03/afc_1.jpg
ORGANIZER;CN="AFC Rochefort":MAILTO:afc17rochefort@afc-france.org
END:VEVENT
BEGIN:VEVENT
DTSTART;TZID=Europe/Paris:20260604T090000
DTEND;TZID=Europe/Paris:20260604T170000
DTSTAMP:20260424T212807
CREATED:20260422T121145Z
LAST-MODIFIED:20260422T141821Z
UID:44210-1780563600-1780592400@catholiques17.fr
SUMMARY:Journée sur l'Eucharistie de la Pastorale de la Santé
DESCRIPTION:La Pastorale de la Santé organise une journée sur l’Eucharistie\nPour les équipes d’aumônerie\, de SEM\, PPH\net tous ceux qui portent la communion\nLe 4 juin de 9h à 17h00 à la Maison diocésaine\nAvec le P. Louis Chasseriau\nPratique : \n\nApporter un plat (salé ou sucré) à partager\nInscription auprès de la Pastorale de la Santé : sante@diocese17.fr
URL:https://catholiques17.fr/event/journee-sur-leucharistie-de-la-pastorale-de-la-sante/
LOCATION:Maison diocésaine de Saintes\, 6 allée du Séminaire\, Saintes\, 17100\, France
ATTACH;FMTTYPE=image/jpeg:https://catholiques17.fr/wp-content/uploads/2026/04/Formation-eucharistie-Pastorale-Sante.jpg
END:VEVENT
BEGIN:VEVENT
DTSTART;VALUE=DATE:20260607
DTEND;VALUE=DATE:20260608
DTSTAMP:20260424T212807
CREATED:20260126T155100Z
LAST-MODIFIED:20260126T155100Z
UID:42612-1780790400-1780876799@catholiques17.fr
SUMMARY:Fête des familles des AFC Rochefort
DESCRIPTION:Les AFC de Rochefort invite les familles de Rochefort et ses environs à une fete\, le 7 juin 2026\nPrécisions à venir
URL:https://catholiques17.fr/event/fete-des-familles-des-afc-rochefort/
ATTACH;FMTTYPE=image/jpeg:https://catholiques17.fr/wp-content/uploads/2021/03/afc_1.jpg
ORGANIZER;CN="AFC Rochefort":MAILTO:afc17rochefort@afc-france.org
END:VEVENT
BEGIN:VEVENT
DTSTART;TZID=Europe/Paris:20260610T200000
DTEND;TZID=Europe/Paris:20260610T200000
DTSTAMP:20260424T212807
CREATED:20260402T091425Z
LAST-MODIFIED:20260402T091431Z
UID:43968-1781121600-1781121600@catholiques17.fr
SUMMARY:Vivre la joie de la résurrection et l'attente de l'Esprit-Saint avec le Chemin Ignatien
DESCRIPTION:Le Chemin Ignatien de Charente-Maritime\npropose des soirées ouvertes à tous pour\nvivre la joie de la Résurrection et l’attente de l’Esprit-Saint\nPrier avec la Parole de Dieu\nPartager ce que la Parole de Dieu produit en nous \nNouveaux baptisés\, catéchumènes\, recommençant dans la foi…\nVous êtes bienvenus pour ces soirées de prière fraternelle ! \n\nLa Rochelle : 20 avril et 18 mai de 20h à 21h30 au Centre J.-B de Souzy (33 rue Alfred Kastler – La Rochelle)\nSaintes : 22 avril et 20 mai de 20h à 21h30 à la Maison diocésaine (6 allée du séminaire – Saintes)\nRoyan : 20 avril et 18 mai de 20h à 21h30 à la Salle du Parc (2 avenue St François – Royan)\nRochefort : 20 mai et 10 juin de 20h à 21h30 à la Maison paroissiale (65 bis rue Voltaire – Rochefort)\nÎle de Ré : 5 mai et 12 mai de 18h à 19h30 à La Flotte et Saint-Martin\n\nInscriptions souhaitées  : chemin.ignatien17@gmail.com – 06 30 53 24 84 ou 06 76 05 60 10
URL:https://catholiques17.fr/event/vivre-la-joie-de-la-resurrection-et-lattente-de-lesprit-saint-avec-le-chemin-ignatien-8/
LOCATION:Salle paroissiale de Rochefort\, 65 ter rue Voltaire\, Rochefort\, 17300\, France
ATTACH;FMTTYPE=image/png:https://catholiques17.fr/wp-content/uploads/2026/04/Sans-titre-3.png
END:VEVENT
BEGIN:VEVENT
DTSTART;VALUE=DATE:20260611
DTEND;VALUE=DATE:20260617
DTSTAMP:20260424T212807
CREATED:20260112T162305Z
LAST-MODIFIED:20260413T094411Z
UID:42495-1781136000-1781654399@catholiques17.fr
SUMMARY:Pèlerinage au Portugal REPORTE
DESCRIPTION:Le  pèlerinage au Portugal\, à Porto\, Fatima et Lisbonne est malheureusement annulé\, il devrait être programmé de nouveau au mois de septembre 2026.\nPlus d’informations sur la page des pèlerinages\n 
URL:https://catholiques17.fr/event/pelerinage-au-portugal/
ATTACH;FMTTYPE=image/jpeg:https://catholiques17.fr/wp-content/uploads/2025/10/FATIMA_Page_01.jpg
END:VEVENT
BEGIN:VEVENT
DTSTART;TZID=Europe/Paris:20260611T120000
DTEND;TZID=Europe/Paris:20260611T130000
DTSTAMP:20260424T212807
CREATED:20260304T151549Z
LAST-MODIFIED:20260304T151549Z
UID:43491-1781179200-1781182800@catholiques17.fr
SUMMARY:Messe pour la paix à la maison diocésaine
DESCRIPTION:Pax Christi invite à célébrer tous les 11 du mois une messe pour la paix. \nDans notre diocèse\, elle est célébrée à l’oratoire de la Maison diocésaine\, à Saintes\, à midi. \n\n\n\n\nAprès l’invasion de l’Ukraine par la Russie -le 24 février 2022- et en réponse à l’appel des Evêques de France de prier activement pour la paix\, Pax Christi a relancé son invitation à célébrer chaque mois des messes dédiées à la paix. Le Mouvement renoue ainsi avec une de ses traditions fortes. La date du 11 fait symboliquement référence à la signature de l’Armistice qui marqua officiellement la fin de la Première Guerre Mondiale.
URL:https://catholiques17.fr/event/messe-pour-la-paix-a-la-maison-diocesaine-4/
LOCATION:Maison diocésaine de Saintes\, 6 allée du Séminaire\, Saintes\, 17100\, France
ATTACH;FMTTYPE=image/jpeg:https://catholiques17.fr/wp-content/uploads/2026/03/AFFICHE-LA-ROCHELLE-Messe-Paix.jpg
END:VEVENT
BEGIN:VEVENT
DTSTART;VALUE=DATE:20260619
DTEND;VALUE=DATE:20260622
DTSTAMP:20260424T212807
CREATED:20251119T102316Z
LAST-MODIFIED:20251119T102316Z
UID:41893-1781827200-1782086399@catholiques17.fr
SUMMARY:Retraite spirituelle à Sablonceaux
DESCRIPTION:Découverte spirituelle\n« Entrer dans le Silence pour Ecouter la Parole de Dieu »\nWeek-end ‘’PENTECOTE’’ du 12 au 14/12/25\nà l’Abbaye de Sablonceaux\nCôté pratique : \ndu vendredi 18h au dimanche 16h\nHébergement en chambre individuelle (silence)\nApporter : Bible et de quoi écrire\, un cahier …\nUn sac de couchage ou draps pour lit 1 place (ou 7 € pour prêt de draps)\nUn plat salé ou sucré pour le repas partagé du vendredi soir\nFourchette de participation d’un WE : 95 € / 150 € \nInscriptions : \nCommunauté du Chemin Neuf\nAbbaye de Sablonceaux – 17600 Sablonceaux\nou par mail : retraite.sablonceaux@gmail.com\nContact : 06 82 14 97 43
URL:https://catholiques17.fr/event/retraite-spirituelle-a-sablonceaux/
LOCATION:Abbaye de Sablonceaux\, Route de l'Abbaye\, Sablonceaux\, France
ATTACH;FMTTYPE=image/jpeg:https://catholiques17.fr/wp-content/uploads/2025/11/image7.jpg
END:VEVENT
BEGIN:VEVENT
DTSTART;TZID=Europe/Paris:20260627T093000
DTEND;TZID=Europe/Paris:20260627T160000
DTSTAMP:20260424T212807
CREATED:20260402T141230Z
LAST-MODIFIED:20260402T141230Z
UID:43996-1782552600-1782576000@catholiques17.fr
SUMMARY:Journée festive Eco Chrétiens 17
DESCRIPTION:
URL:https://catholiques17.fr/event/journee-festive-eco-chretiens-17/
LOCATION:Salle du Parc à Royan\, 2 avenue St François\, Royan\, 17200\, France
ATTACH;FMTTYPE=image/jpeg:https://catholiques17.fr/wp-content/uploads/2026/04/EC17-Journee-festive-1.jpg
END:VEVENT
END:VCALENDAR