BEGIN:VCALENDAR
VERSION:2.0
PRODID:-//Dioc&egrave;se la Rochelle - ECPv6.15.14//NONSGML v1.0//EN
CALSCALE:GREGORIAN
METHOD:PUBLISH
X-WR-CALNAME:Dioc&egrave;se la Rochelle
X-ORIGINAL-URL:https://catholiques17.fr
X-WR-CALDESC:Évènements pour Dioc&egrave;se la Rochelle
REFRESH-INTERVAL;VALUE=DURATION:PT1H
X-Robots-Tag:noindex
X-PUBLISHED-TTL:PT1H
BEGIN:VTIMEZONE
TZID:Europe/Paris
BEGIN:DAYLIGHT
TZOFFSETFROM:+0100
TZOFFSETTO:+0200
TZNAME:CEST
DTSTART:20250330T010000
END:DAYLIGHT
BEGIN:STANDARD
TZOFFSETFROM:+0200
TZOFFSETTO:+0100
TZNAME:CET
DTSTART:20251026T010000
END:STANDARD
BEGIN:DAYLIGHT
TZOFFSETFROM:+0100
TZOFFSETTO:+0200
TZNAME:CEST
DTSTART:20260329T010000
END:DAYLIGHT
BEGIN:STANDARD
TZOFFSETFROM:+0200
TZOFFSETTO:+0100
TZNAME:CET
DTSTART:20261025T010000
END:STANDARD
BEGIN:DAYLIGHT
TZOFFSETFROM:+0100
TZOFFSETTO:+0200
TZNAME:CEST
DTSTART:20270328T010000
END:DAYLIGHT
BEGIN:STANDARD
TZOFFSETFROM:+0200
TZOFFSETTO:+0100
TZNAME:CET
DTSTART:20271031T010000
END:STANDARD
END:VTIMEZONE
BEGIN:VEVENT
DTSTART;VALUE=DATE:20260611
DTEND;VALUE=DATE:20260617
DTSTAMP:20260424T230055
CREATED:20260112T162305Z
LAST-MODIFIED:20260413T094411Z
UID:42495-1781136000-1781654399@catholiques17.fr
SUMMARY:Pèlerinage au Portugal REPORTE
DESCRIPTION:Le  pèlerinage au Portugal\, à Porto\, Fatima et Lisbonne est malheureusement annulé\, il devrait être programmé de nouveau au mois de septembre 2026.\nPlus d’informations sur la page des pèlerinages\n 
URL:https://catholiques17.fr/event/pelerinage-au-portugal/
ATTACH;FMTTYPE=image/jpeg:https://catholiques17.fr/wp-content/uploads/2025/10/FATIMA_Page_01.jpg
END:VEVENT
END:VCALENDAR