BEGIN:VCALENDAR
VERSION:2.0
PRODID:-//Dioc&egrave;se la Rochelle - ECPv6.15.14//NONSGML v1.0//EN
CALSCALE:GREGORIAN
METHOD:PUBLISH
X-WR-CALNAME:Dioc&egrave;se la Rochelle
X-ORIGINAL-URL:https://catholiques17.fr
X-WR-CALDESC:Évènements pour Dioc&egrave;se la Rochelle
REFRESH-INTERVAL;VALUE=DURATION:PT1H
X-Robots-Tag:noindex
X-PUBLISHED-TTL:PT1H
BEGIN:VTIMEZONE
TZID:Europe/Paris
BEGIN:DAYLIGHT
TZOFFSETFROM:+0100
TZOFFSETTO:+0200
TZNAME:CEST
DTSTART:20250330T010000
END:DAYLIGHT
BEGIN:STANDARD
TZOFFSETFROM:+0200
TZOFFSETTO:+0100
TZNAME:CET
DTSTART:20251026T010000
END:STANDARD
BEGIN:DAYLIGHT
TZOFFSETFROM:+0100
TZOFFSETTO:+0200
TZNAME:CEST
DTSTART:20260329T010000
END:DAYLIGHT
BEGIN:STANDARD
TZOFFSETFROM:+0200
TZOFFSETTO:+0100
TZNAME:CET
DTSTART:20261025T010000
END:STANDARD
BEGIN:DAYLIGHT
TZOFFSETFROM:+0100
TZOFFSETTO:+0200
TZNAME:CEST
DTSTART:20270328T010000
END:DAYLIGHT
BEGIN:STANDARD
TZOFFSETFROM:+0200
TZOFFSETTO:+0100
TZNAME:CET
DTSTART:20271031T010000
END:STANDARD
END:VTIMEZONE
BEGIN:VEVENT
DTSTART;TZID=Europe/Paris:20260525T090000
DTEND;TZID=Europe/Paris:20260525T160000
DTSTAMP:20260425T003336
CREATED:20260323T103736Z
LAST-MODIFIED:20260413T062235Z
UID:43793-1779699600-1779724800@catholiques17.fr
SUMMARY:Pèlerinage pour les vocations
DESCRIPTION:Pèlerinage pour les vocations auprès de Notre-Dame de Recouvrance à Pons\nLundi de Pentecôte – 25 mai 2026\n\n9h00 : Rendez-vous pour les marcheurs à l’église de St-Léger : marche\, chants\, prière\n11h : Accueil à l’église St-Vivien de Pons pour les non-marcheurs \, chapelet\, adoration\n12h00 : Arrivée des marcheurs à l’église St-Vivien de Pons\, pique-nique\n13h30 : Temps d’enseignement\n14h30 : Départ de la procession vers l’église St-Martin de Pons\n15h00 : Messe de clôture à l’église St-Martin de Pons\, présidée par Mgr Pierre-Antoine Bozo
URL:https://catholiques17.fr/event/pelerinage-pour-les-vocations/
LOCATION:Pons\, Pons
ATTACH;FMTTYPE=image/jpeg:https://catholiques17.fr/wp-content/uploads/2026/03/Pelerinage-Notre-Dame-de-Recouvrance-1.jpg
END:VEVENT
END:VCALENDAR