BEGIN:VCALENDAR
VERSION:2.0
PRODID:-//Dioc&egrave;se la Rochelle - ECPv6.15.14//NONSGML v1.0//EN
CALSCALE:GREGORIAN
METHOD:PUBLISH
X-ORIGINAL-URL:https://catholiques17.fr
X-WR-CALDESC:Évènements pour Dioc&egrave;se la Rochelle
REFRESH-INTERVAL;VALUE=DURATION:PT1H
X-Robots-Tag:noindex
X-PUBLISHED-TTL:PT1H
BEGIN:VTIMEZONE
TZID:Europe/Paris
BEGIN:DAYLIGHT
TZOFFSETFROM:+0100
TZOFFSETTO:+0200
TZNAME:CEST
DTSTART:20250330T010000
END:DAYLIGHT
BEGIN:STANDARD
TZOFFSETFROM:+0200
TZOFFSETTO:+0100
TZNAME:CET
DTSTART:20251026T010000
END:STANDARD
BEGIN:DAYLIGHT
TZOFFSETFROM:+0100
TZOFFSETTO:+0200
TZNAME:CEST
DTSTART:20260329T010000
END:DAYLIGHT
BEGIN:STANDARD
TZOFFSETFROM:+0200
TZOFFSETTO:+0100
TZNAME:CET
DTSTART:20261025T010000
END:STANDARD
BEGIN:DAYLIGHT
TZOFFSETFROM:+0100
TZOFFSETTO:+0200
TZNAME:CEST
DTSTART:20270328T010000
END:DAYLIGHT
BEGIN:STANDARD
TZOFFSETFROM:+0200
TZOFFSETTO:+0100
TZNAME:CET
DTSTART:20271031T010000
END:STANDARD
END:VTIMEZONE
BEGIN:VEVENT
DTSTART;VALUE=DATE:20260521
DTEND;VALUE=DATE:20260523
DTSTAMP:20260425T003609
CREATED:20250107T132746Z
LAST-MODIFIED:20260109T154913Z
UID:37389-1779321600-1779494399@catholiques17.fr
SUMMARY:Formation à l'ennéagramme avec Odile Cavaro
DESCRIPTION:Coût : 100 € par participant \nContact : Céline Le Guilloux – c.leguilloux@diocese17.fr \n  \nQu’est-ce que l’ennéagramme ?\nL’ennéagramme est un outil de connaissance de soi basé sur le repérage de nos motivations profondes. \nNous avons tous trois centres pour fonctionner et communiquer :\nUn centre mental\, siège de nos pensées\, de nos réflexions\,\nUn centre émotionnel qui gère nos émotions\, nos relations avec nous et avec les autres\,\nUn centre dit « instinctif » qui nous met en mouvement\, nous fait agir .\nPour chacun de ces centres\, trois manières différentes de les vivre : D’où neuf motivations principales . \nL’idée de base de l’ennéagramme\, qui résulte d’une longue auto observation\, part du principe que     nous privilégions l’un de ces trois centres. Nous nous en servons plus souvent et plus volontiers.\nC’est ce qui fait notre force\, nous en tirons notre énergie principale\, mais cela peut être un piège également. A force de privilégier un centre\, nous pouvons oublier que par moment il vaudrait mieux      en utiliser un autre ce qui explique que nous avons souvent tendance à buter dans les mêmes ornières. \nIl nous est peut être arrivé de nous dire que nous aurions mieux fait de réfléchir avant de foncer tête baissée\, ou bien au contraire qu’ à force de réfléchir et de tergiverser\, nous avions laissé passer une bonne occasion d’agir. Ou encore se trouver paralysé et ne pas pouvoir agir parce que nous avons  voulu à toute force protéger une relation. \nPour ceux qui sont familiarisés avec la communication non violente on peut trouver des connivences     et une grande complémentarité. La communication non violente nous aide à connaître nos besoins         y compris les plus profond\, les plus vitaux. L’ennéagramme nous dit  pourquoi nous avons tellement besoin de nourrir certains besoins plus que d’ autres en sachant que c’est différent pour chacun. \nIl est bien clair qu’ il s’agit de repérer sa motivation profonde. Pour cela on passe par la description    de comportements\, mais seule la personne elle-même peut dire comment elle les perçoit. Il n’est          en aucune manière question de typer les personnes\, de les mettre dans des « cases ».\n« Je peux être quelqu’un de très travailleur\, cela\, les autres le voient. Mais les raisons  pour lesquelles je suis travailleur\, il n y a que moi qui les connaît. » \nSe positionner de façon privilégiée sur l’un des neuf points  va aider à prendre conscience        de sa motivation principale pour développer au mieux son potentiel\, mais aussi à faire grandir   la bienveillance envers les autres.
URL:https://catholiques17.fr/event/formation-a-lenneagramme-avec-odile-cavaro/
LOCATION:Maison diocésaine de Saintes\, 6 allée du Séminaire\, Saintes\, 17100\, France
END:VEVENT
END:VCALENDAR