BEGIN:VCALENDAR
VERSION:2.0
PRODID:-//Dioc&egrave;se la Rochelle - ECPv6.15.14//NONSGML v1.0//EN
CALSCALE:GREGORIAN
METHOD:PUBLISH
X-WR-CALNAME:Dioc&egrave;se la Rochelle
X-ORIGINAL-URL:https://catholiques17.fr
X-WR-CALDESC:Évènements pour Dioc&egrave;se la Rochelle
REFRESH-INTERVAL;VALUE=DURATION:PT1H
X-Robots-Tag:noindex
X-PUBLISHED-TTL:PT1H
BEGIN:VTIMEZONE
TZID:Europe/Paris
BEGIN:DAYLIGHT
TZOFFSETFROM:+0100
TZOFFSETTO:+0200
TZNAME:CEST
DTSTART:20250330T010000
END:DAYLIGHT
BEGIN:STANDARD
TZOFFSETFROM:+0200
TZOFFSETTO:+0100
TZNAME:CET
DTSTART:20251026T010000
END:STANDARD
BEGIN:DAYLIGHT
TZOFFSETFROM:+0100
TZOFFSETTO:+0200
TZNAME:CEST
DTSTART:20260329T010000
END:DAYLIGHT
BEGIN:STANDARD
TZOFFSETFROM:+0200
TZOFFSETTO:+0100
TZNAME:CET
DTSTART:20261025T010000
END:STANDARD
BEGIN:DAYLIGHT
TZOFFSETFROM:+0100
TZOFFSETTO:+0200
TZNAME:CEST
DTSTART:20270328T010000
END:DAYLIGHT
BEGIN:STANDARD
TZOFFSETFROM:+0200
TZOFFSETTO:+0100
TZNAME:CET
DTSTART:20271031T010000
END:STANDARD
END:VTIMEZONE
BEGIN:VEVENT
DTSTART;TZID=Europe/Paris:20260509T170000
DTEND;TZID=Europe/Paris:20260509T170000
DTSTAMP:20260425T003355
CREATED:20260414T153913Z
LAST-MODIFIED:20260414T153917Z
UID:44181-1778346000-1778346000@catholiques17.fr
SUMMARY:Randonnée à l'abbaye de Sablonceaux
DESCRIPTION:Pour l’édition 2026\, ce spectacle son et lumière propose un voyage aux origines du territoire\, à travers la christianisation de la Saintonge et l’essor de l’art roman. L’abbaye de Sablonceaux apparaît comme une synthèse de cette histoire. Par son architecture\, son évolution et sa vocation\, elle incarne pleinement la rencontre entre spiritualité\, création artistique et territoire. \n\n\nAu programme : balade fléchée autour de l’abbaye\, pique-nique possible sur place\, et buvette avec groupe musical dès 20 h.  \nDurée :  00h30\nSpectacle gratuit sur réservation\nInformation & inscription:\nhttps://www.royanatlantique.fr/agenda/la-saintonge-romane-en-lumiere-sablonceaux/\nhttps://www.royanatlantique.fr/temps-fort/mapping-a-labbaye-de-sablonceaux/
URL:https://catholiques17.fr/event/randonnee-a-labbaye-de-sablonceaux/
LOCATION:Abbaye de Sablonceaux\, Route de l'Abbaye\, Sablonceaux\, France
ATTACH;FMTTYPE=image/jpeg:https://catholiques17.fr/wp-content/uploads/2026/04/image-2.jpg
END:VEVENT
END:VCALENDAR