BEGIN:VCALENDAR
VERSION:2.0
PRODID:-//Dioc&egrave;se la Rochelle - ECPv6.15.14//NONSGML v1.0//EN
CALSCALE:GREGORIAN
METHOD:PUBLISH
X-WR-CALNAME:Dioc&egrave;se la Rochelle
X-ORIGINAL-URL:https://catholiques17.fr
X-WR-CALDESC:Évènements pour Dioc&egrave;se la Rochelle
REFRESH-INTERVAL;VALUE=DURATION:PT1H
X-Robots-Tag:noindex
X-PUBLISHED-TTL:PT1H
BEGIN:VTIMEZONE
TZID:Europe/Paris
BEGIN:DAYLIGHT
TZOFFSETFROM:+0100
TZOFFSETTO:+0200
TZNAME:CEST
DTSTART:20250330T010000
END:DAYLIGHT
BEGIN:STANDARD
TZOFFSETFROM:+0200
TZOFFSETTO:+0100
TZNAME:CET
DTSTART:20251026T010000
END:STANDARD
BEGIN:DAYLIGHT
TZOFFSETFROM:+0100
TZOFFSETTO:+0200
TZNAME:CEST
DTSTART:20260329T010000
END:DAYLIGHT
BEGIN:STANDARD
TZOFFSETFROM:+0200
TZOFFSETTO:+0100
TZNAME:CET
DTSTART:20261025T010000
END:STANDARD
BEGIN:DAYLIGHT
TZOFFSETFROM:+0100
TZOFFSETTO:+0200
TZNAME:CEST
DTSTART:20270328T010000
END:DAYLIGHT
BEGIN:STANDARD
TZOFFSETFROM:+0200
TZOFFSETTO:+0100
TZNAME:CET
DTSTART:20271031T010000
END:STANDARD
END:VTIMEZONE
BEGIN:VEVENT
DTSTART;TZID=Europe/Paris:20260503T100000
DTEND;TZID=Europe/Paris:20260503T150000
DTSTAMP:20260425T003342
CREATED:20260210T215930Z
LAST-MODIFIED:20260210T215930Z
UID:42836-1777802400-1777820400@catholiques17.fr
SUMMARY:Cultivons la solidarité avec l'hospitalité diocésaine
DESCRIPTION:L’hospitalité diocésaine organise une vente de plants et de semis le dimanche 3 mai à Gémozac. \nLes bénéfices de cette vente serviront à aider le financement des pèlerinages des hospitaliers et des malades à l’occasion du pèlerinage diocésaine à Lourdes (du 3 au 7 août 2026) \nPour découvrir l’hospitalité diocésaine\, ses actions auprès des malades\, cliquez ici
URL:https://catholiques17.fr/event/cultivons-la-solidarite-avec-lhospitalite-diocesaine/
LOCATION:Eglise Gémozac\, Place St Pierre\, Gémozac\, 17260\, France
ATTACH;FMTTYPE=image/jpeg:https://catholiques17.fr/wp-content/uploads/2026/02/vente-plants-2026_page-0001.jpg
END:VEVENT
END:VCALENDAR