BEGIN:VCALENDAR
VERSION:2.0
PRODID:-//Dioc&egrave;se la Rochelle - ECPv6.15.14//NONSGML v1.0//EN
CALSCALE:GREGORIAN
METHOD:PUBLISH
X-WR-CALNAME:Dioc&egrave;se la Rochelle
X-ORIGINAL-URL:https://catholiques17.fr
X-WR-CALDESC:Évènements pour Dioc&egrave;se la Rochelle
REFRESH-INTERVAL;VALUE=DURATION:PT1H
X-Robots-Tag:noindex
X-PUBLISHED-TTL:PT1H
BEGIN:VTIMEZONE
TZID:Europe/Paris
BEGIN:DAYLIGHT
TZOFFSETFROM:+0100
TZOFFSETTO:+0200
TZNAME:CEST
DTSTART:20250330T010000
END:DAYLIGHT
BEGIN:STANDARD
TZOFFSETFROM:+0200
TZOFFSETTO:+0100
TZNAME:CET
DTSTART:20251026T010000
END:STANDARD
BEGIN:DAYLIGHT
TZOFFSETFROM:+0100
TZOFFSETTO:+0200
TZNAME:CEST
DTSTART:20260329T010000
END:DAYLIGHT
BEGIN:STANDARD
TZOFFSETFROM:+0200
TZOFFSETTO:+0100
TZNAME:CET
DTSTART:20261025T010000
END:STANDARD
BEGIN:DAYLIGHT
TZOFFSETFROM:+0100
TZOFFSETTO:+0200
TZNAME:CEST
DTSTART:20270328T010000
END:DAYLIGHT
BEGIN:STANDARD
TZOFFSETFROM:+0200
TZOFFSETTO:+0100
TZNAME:CET
DTSTART:20271031T010000
END:STANDARD
END:VTIMEZONE
BEGIN:VEVENT
DTSTART;VALUE=DATE:20260324
DTEND;VALUE=DATE:20260501
DTSTAMP:20260425T210728
CREATED:20260310T160258Z
LAST-MODIFIED:20260310T160427Z
UID:43606-1774310400-1777593599@catholiques17.fr
SUMMARY:“Survol des marais de Saintonge” - exposition au Centre Souzy
DESCRIPTION:Exposition “Survol des marais de Saintonge”\npar Pascal Georgeon\, photographe\nUne invitation à découvrir les richesses de ces espaces naturels préservés.
URL:https://catholiques17.fr/event/survol-des-marais-de-saintonge-exposition-au-centre-souzy/
LOCATION:Centre Souzy\, rue Alfred Kastler\, La Rochelle\, 17000\, France
ATTACH;FMTTYPE=image/jpeg:https://catholiques17.fr/wp-content/uploads/2026/03/Printemps-de-Souzy.jpg
END:VEVENT
BEGIN:VEVENT
DTSTART;VALUE=DATE:20260413
DTEND;VALUE=DATE:20260414
DTSTAMP:20260425T210728
CREATED:20260109T162006Z
LAST-MODIFIED:20260413T062229Z
UID:42454-1776038400-1776124799@catholiques17.fr
SUMMARY:Pélé des lycéens au Mont Saint-Michel
DESCRIPTION:Renseignements et inscriptions sur jeunes17.fr
URL:https://catholiques17.fr/event/pele-des-lyceens-au-mont-saint-michel/
ATTACH;FMTTYPE=image/jpeg:https://catholiques17.fr/wp-content/uploads/2026/01/WhatsApp-Image-2026-01-09-at-16.01.43.jpeg
END:VEVENT
BEGIN:VEVENT
DTSTART;TZID=Europe/Paris:20260413T200000
DTEND;TZID=Europe/Paris:20260413T213000
DTSTAMP:20260425T210728
CREATED:20251021T133134Z
LAST-MODIFIED:20251021T133412Z
UID:41406-1776110400-1776115800@catholiques17.fr
SUMMARY:Formation biblique "A la découverte des premières chrétiennes"\, avec P. Pascal-Grégoire Delage
DESCRIPTION:Plusieurs soirées sont organisées des lundis à 20 h à la maison diocésaine sur le thème : « A la découverte des premières chrétiennes\, les aléas de leur histoire\, leurs diverses conditions dans l’Eglise\, leurs missions reçues\, leur légende à la tradition et leur façon de faire face à une société greco romaine qui reste encore résolument hostile à une affirmation des femmes dans la société publique » . \nElles seront animées par P. Pascal-Grégoire Delage. \nVoici les dates retenues : \n~ Lundi 17 novembre : les Galiléennes de l’entourage de Jésus. \n~ lundi 15 décembre : les femmes engagées dans les premières missions apostoliques \n~ lundi 12 janvier : A l’heure du Témoignage\, Blandine\, Perpétue et leurs sœurs… \n~ lundi 9 février : Perfides filles d’Eve\, celles qu’on appelle hérétiques. \n~ lundi 9 mars : Histoire de laïques pas si ordinaires que ça. \n~ lundi 13 avril : Celles qui mènent la vie des anges\, les premières religieuses. \nN’hésitez pas à inviter vos amis !
URL:https://catholiques17.fr/event/formation-biblique-a-la-decouverte-des-premieres-chretiennes-avec-p-pascal-gregoire-delage-5/
LOCATION:Maison diocésaine de Saintes\, 6 allée du Séminaire\, Saintes\, 17100\, France
ATTACH;FMTTYPE=image/png:https://catholiques17.fr/wp-content/uploads/2025/10/Lundi-17-novembre-les-Galileennes-de-lentourage-de-Jesus.-lundi-15-decembre-les-femmes-engagees-dans-les-premieres-missions-apostoliques-lundi-12-janvier-A-lheure-du-Temoignage-Blandin.png
END:VEVENT
END:VCALENDAR