BEGIN:VCALENDAR
VERSION:2.0
PRODID:-//Dioc&egrave;se la Rochelle - ECPv6.15.14//NONSGML v1.0//EN
CALSCALE:GREGORIAN
METHOD:PUBLISH
X-WR-CALNAME:Dioc&egrave;se la Rochelle
X-ORIGINAL-URL:https://catholiques17.fr
X-WR-CALDESC:Évènements pour Dioc&egrave;se la Rochelle
REFRESH-INTERVAL;VALUE=DURATION:PT1H
X-Robots-Tag:noindex
X-PUBLISHED-TTL:PT1H
BEGIN:VTIMEZONE
TZID:Europe/Paris
BEGIN:DAYLIGHT
TZOFFSETFROM:+0100
TZOFFSETTO:+0200
TZNAME:CEST
DTSTART:20250330T010000
END:DAYLIGHT
BEGIN:STANDARD
TZOFFSETFROM:+0200
TZOFFSETTO:+0100
TZNAME:CET
DTSTART:20251026T010000
END:STANDARD
BEGIN:DAYLIGHT
TZOFFSETFROM:+0100
TZOFFSETTO:+0200
TZNAME:CEST
DTSTART:20260329T010000
END:DAYLIGHT
BEGIN:STANDARD
TZOFFSETFROM:+0200
TZOFFSETTO:+0100
TZNAME:CET
DTSTART:20261025T010000
END:STANDARD
BEGIN:DAYLIGHT
TZOFFSETFROM:+0100
TZOFFSETTO:+0200
TZNAME:CEST
DTSTART:20270328T010000
END:DAYLIGHT
BEGIN:STANDARD
TZOFFSETFROM:+0200
TZOFFSETTO:+0100
TZNAME:CET
DTSTART:20271031T010000
END:STANDARD
END:VTIMEZONE
BEGIN:VEVENT
DTSTART;VALUE=DATE:20260324
DTEND;VALUE=DATE:20260501
DTSTAMP:20260426T054013
CREATED:20260310T160258Z
LAST-MODIFIED:20260310T160427Z
UID:43606-1774310400-1777593599@catholiques17.fr
SUMMARY:“Survol des marais de Saintonge” - exposition au Centre Souzy
DESCRIPTION:Exposition “Survol des marais de Saintonge”\npar Pascal Georgeon\, photographe\nUne invitation à découvrir les richesses de ces espaces naturels préservés.
URL:https://catholiques17.fr/event/survol-des-marais-de-saintonge-exposition-au-centre-souzy/
LOCATION:Centre Souzy\, rue Alfred Kastler\, La Rochelle\, 17000\, France
ATTACH;FMTTYPE=image/jpeg:https://catholiques17.fr/wp-content/uploads/2026/03/Printemps-de-Souzy.jpg
END:VEVENT
BEGIN:VEVENT
DTSTART;TZID=Europe/Paris:20260407T220000
DTEND;TZID=Europe/Paris:20260410T230000
DTSTAMP:20260426T054013
CREATED:20260414T153259Z
LAST-MODIFIED:20260414T153743Z
UID:44176-1775599200-1775862000@catholiques17.fr
SUMMARY:Spectacle son et lumière à l'Abbaye de Sablonceaux
DESCRIPTION:Pour l’édition 2026\, ce spectacle son et lumière propose un voyage aux origines du territoire\, à travers la christianisation de la Saintonge et l’essor de l’art roman. L’abbaye de Sablonceaux apparaît comme une synthèse de cette histoire. Par son architecture\, son évolution et sa vocation\, elle incarne pleinement la rencontre entre spiritualité\, création artistique et territoire. \n\n\nAu programme : balade fléchée autour de l’abbaye\, pique-nique possible sur place\, et buvette avec groupe musical dès 20 h.  \nDurée :  00h30\nSpectacle gratuit sur réservation\nInformation & inscription:\nhttps://www.royanatlantique.fr/agenda/la-saintonge-romane-en-lumiere-sablonceaux/\nhttps://www.royanatlantique.fr/temps-fort/mapping-a-labbaye-de-sablonceaux/
URL:https://catholiques17.fr/event/spectacle-son-et-lumiere-a-labbaye-de-sablonceaux/
LOCATION:Abbaye de Sablonceaux\, Route de l'Abbaye\, Sablonceaux\, France
ATTACH;FMTTYPE=image/jpeg:https://catholiques17.fr/wp-content/uploads/2026/04/image-2.jpg
END:VEVENT
END:VCALENDAR